BEGIN:VCALENDAR
VERSION:2.0
PRODID:-//ChamberMaster//Event Calendar 2.0//EN
METHOD:PUBLISH
X-PUBLISHED-TTL:P1H
REFRESH-INTERVAL:P1H
CALSCALE:GREGORIAN
BEGIN:VTIMEZONE
TZID:America/Chicago
BEGIN:DAYLIGHT
RRULE:FREQ=YEARLY;BYMONTH=3;BYDAY=2SU
DTSTART:20070101T000000
TZOFFSETFROM:-0600
TZOFFSETTO:-0500
TZNAME:Central Daylight Time
END:DAYLIGHT
BEGIN:STANDARD
RRULE:FREQ=YEARLY;BYMONTH=11;BYDAY=1SU
DTSTART:20070101T000000
TZOFFSETFROM:-0500
TZOFFSETTO:-0600
TZNAME:Central Standard Time
END:STANDARD
END:VTIMEZONE
BEGIN:VEVENT
DTSTART;TZID=America/Chicago:20260505T090000
DTEND;TZID=America/Chicago:20260505T110000
X-MICROSOFT-CDO-ALLDAYEVENT:FALSE
SUMMARY:Google AI University – Milton
DESCRIPTION:Are you a small business owner looking to get ahead in the digital age? Artificial Intelligence (AI) is no longer just a futuristic concept—it's a powerful tool that can streamline your operations\, enhance customer engagement\, and drive growth right now.\n\n\n\nJoin us for Google AI University\, a special "Lunch & Learn" workshop designed specifically for small business owners\, funded in part by Google\, and delivered by an ASBDC AI certified trainer. This is your opportunity to understand the foundational concepts of AI and learn practical\, actionable ways to implement it into your business today.\n\n\n\nWhat You'll Learn:\nAI Explained: Get a clear\, jargon-free overview of what AI is and how it's currently being used by businesses of all sizes.\nPractical Business Applications: Discover specific\, accessible ways AI can immediately impact your daily operations\, including:\nSaving Time on administrative tasks with AI-powered tools.\nCreating High-Quality Content (emails\, social media posts\, blog drafts) faster than ever before.\nImproving Customer Service and personalizing interactions.\nAnalyzing Data to make smarter business decisions.\nActionable Next Steps: Walk away with a clear roadmap for adopting AI responsibly and making your first smart AI investments.\nRefreshments will be provided.
X-ALT-DESC;FMTTYPE=text/html:Are you a small business owner looking to get ahead in the digital age? Artificial Intelligence (AI) is no longer just a futuristic concept—it's a powerful tool that can streamline your operations\, enhance customer engagement\, and drive growth right now.\n\n\n\nJoin us for Google AI University\, a special "Lunch & Learn" workshop designed specifically for small business owners\, funded in part by Google\, and delivered by an ASBDC AI certified trainer. This is your opportunity to understand the foundational concepts of AI and learn practical\, actionable ways to implement it into your business today.\n\n\n\nWhat You'll Learn:\nAI Explained: Get a clear\, jargon-free overview of what AI is and how it's currently being used by businesses of all sizes.\nPractical Business Applications: Discover specific\, accessible ways AI can immediately impact your daily operations\, including:\nSaving Time on administrative tasks with AI-powered tools.\nCreating High-Quality Content (emails\, social media posts\, blog drafts) faster than ever before.\nImproving Customer Service and personalizing interactions.\nAnalyzing Data to make smarter business decisions.\nActionable Next Steps: Walk away with a clear roadmap for adopting AI responsibly and making your first smart AI investments.\nRefreshments will be provided.
LOCATION:6491 Caroline St Suite 4\, Milton\, FL Milton FL 32570
UID:e.3535.1445640
SEQUENCE:3
DTSTAMP:20260422T085024Z
URL:http://business.srcchamber.com/chamber-events/Details/google-ai-university-milton-1712260?sourceTypeId=Hub
END:VEVENT
END:VCALENDAR
