BEGIN:VCALENDAR
VERSION:2.0
PRODID:-//ChamberMaster//Event Calendar 2.0//EN
METHOD:PUBLISH
X-PUBLISHED-TTL:P1H
REFRESH-INTERVAL:P1H
CALSCALE:GREGORIAN
BEGIN:VTIMEZONE
TZID:America/Chicago
BEGIN:DAYLIGHT
RRULE:FREQ=YEARLY;BYMONTH=3;BYDAY=2SU
DTSTART:20070101T000000
TZOFFSETFROM:-0600
TZOFFSETTO:-0500
TZNAME:Central Daylight Time
END:DAYLIGHT
BEGIN:STANDARD
RRULE:FREQ=YEARLY;BYMONTH=11;BYDAY=1SU
DTSTART:20070101T000000
TZOFFSETFROM:-0500
TZOFFSETTO:-0600
TZNAME:Central Standard Time
END:STANDARD
END:VTIMEZONE
BEGIN:VEVENT
DTSTART;TZID=America/Chicago:20260512T113000
DTEND;TZID=America/Chicago:20260512T123000
X-MICROSOFT-CDO-ALLDAYEVENT:FALSE
SUMMARY:Google NotebookLM – Learn AI with Jenni Arnold
DESCRIPTION:Are you ready to transform the way you interact with your documents\, notes\, and data?\n\n\n\nJoin us for an immersive\, hands-on webinar where we will explore the game-changing capabilities of Google’s NotebookLM. Far more than just a chatbot\, NotebookLM is an AI-powered personalized research assistant that anchors itself exclusively to the information you provide\, making it the ultimate tool for accuracy\, creativity\, and productivity.\n\n\n\nWhether you are a marketer\, content creator\, researcher\, or business professional\, this session will show you how to leverage AI to drastically reduce your workload and elevate your final output.\n\n\n\nWhat You Will Learn:\nIn this live demonstration\, we will walk you through practical\, real-world workflows\, including:\n\nSupercharging Your Research: Learn how to instantly synthesize massive amounts of data\, ask complex questions\, and generate precise citations without the hallucination risks of standard AI models.\nCreating Engaging Podcasts & Audio: Discover how to use NotebookLM's groundbreaking "Audio Overview" feature to turn dry source material into engaging\, conversational podcast episodes.\nScripting for Videos & Presentations: Watch how to transform raw notes and research into compelling video scripts and well-structured presentation outlines in seconds.\nDesigning Infographics: Learn how to extract key statistics\, themes\, and bullet points from your sources to seamlessly feed into your infographic design tools.\nElevating Your Marketing: See how to train the AI on your brand guidelines and product specs to generate highly targeted marketing copy\, campaign ideas\, and social media content.\nWho Should Attend?\nContent Creators & Marketers looking to scale their multimedia output.\nResearchers & Students needing a smarter way to organize and synthesize information.\nEntrepreneurs & Professionals wanting to leverage AI to save time and boost productivity.\nReserve your spot today and get ready to level up your workflow with the power of AI!\nhttps://sbdc.uwf.edu/events/
X-ALT-DESC;FMTTYPE=text/html:Are you ready to transform the way you interact with your documents\, notes\, and data?\n\n\n\nJoin us for an immersive\, hands-on webinar where we will explore the game-changing capabilities of Google’s NotebookLM. Far more than just a chatbot\, NotebookLM is an AI-powered personalized research assistant that anchors itself exclusively to the information you provide\, making it the ultimate tool for accuracy\, creativity\, and productivity.\n\n\n\nWhether you are a marketer\, content creator\, researcher\, or business professional\, this session will show you how to leverage AI to drastically reduce your workload and elevate your final output.\n\n\n\nWhat You Will Learn:\nIn this live demonstration\, we will walk you through practical\, real-world workflows\, including:\n\nSupercharging Your Research: Learn how to instantly synthesize massive amounts of data\, ask complex questions\, and generate precise citations without the hallucination risks of standard AI models.\nCreating Engaging Podcasts & Audio: Discover how to use NotebookLM's groundbreaking "Audio Overview" feature to turn dry source material into engaging\, conversational podcast episodes.\nScripting for Videos & Presentations: Watch how to transform raw notes and research into compelling video scripts and well-structured presentation outlines in seconds.\nDesigning Infographics: Learn how to extract key statistics\, themes\, and bullet points from your sources to seamlessly feed into your infographic design tools.\nElevating Your Marketing: See how to train the AI on your brand guidelines and product specs to generate highly targeted marketing copy\, campaign ideas\, and social media content.\nWho Should Attend?\nContent Creators & Marketers looking to scale their multimedia output.\nResearchers & Students needing a smarter way to organize and synthesize information.\nEntrepreneurs & Professionals wanting to leverage AI to save time and boost productivity.\nReserve your spot today and get ready to level up your workflow with the power of AI!\nhttps://sbdc.uwf.edu/events/
LOCATION:FL
UID:e.3535.1445703
SEQUENCE:3
DTSTAMP:20260422T083314Z
URL:http://business.srcchamber.com/chamber-events/Details/google-notebooklm-learn-ai-with-jenni-arnold-1712358?sourceTypeId=Hub
END:VEVENT
END:VCALENDAR
