BEGIN:VCALENDAR
VERSION:2.0
PRODID:-//ChamberMaster//Event Calendar 2.0//EN
METHOD:PUBLISH
X-PUBLISHED-TTL:P1H
REFRESH-INTERVAL:P1H
CALSCALE:GREGORIAN
BEGIN:VTIMEZONE
TZID:America/Chicago
BEGIN:DAYLIGHT
RRULE:FREQ=YEARLY;BYMONTH=3;BYDAY=2SU
DTSTART:20070101T000000
TZOFFSETFROM:-0600
TZOFFSETTO:-0500
TZNAME:Central Daylight Time
END:DAYLIGHT
BEGIN:STANDARD
RRULE:FREQ=YEARLY;BYMONTH=11;BYDAY=1SU
DTSTART:20070101T000000
TZOFFSETFROM:-0500
TZOFFSETTO:-0600
TZNAME:Central Standard Time
END:STANDARD
END:VTIMEZONE
BEGIN:VEVENT
DTSTART;TZID=America/Chicago:20260505T173000
DTEND;TZID=America/Chicago:20260505T190000
X-MICROSOFT-CDO-ALLDAYEVENT:FALSE
SUMMARY:Business After Hours
DESCRIPTION:✨ Business After Hours ✨ Join us on May 5th from 5:30 PM   7:00 PM\, Splash RV Resort Come network\, connect\, and unwind with fellow business professionals in a relaxed after-hours setting. We can't wait to see you there! We can't wait to see you there! A special thank you to our sponsor\, Splash RV Resort\, for making this event possible! #BusinessAfterHours #Networking #ChamberEvents
X-ALT-DESC;FMTTYPE=text/html:<!DOCTYPE html><html><head><title></title></head><body aria-disabled="false"><p>✨ Business After Hours ✨ Join us on May 5th from 5:30 PM &ndash\; 7:00 PM\, Splash RV Resort Come network\, connect\, and unwind with fellow business professionals in a relaxed after-hours setting. We can&rsquo\;t wait to see you there! </p><p>We can&rsquo\;t wait to see you there! A special thank you to our sponsor\, Splash RV Resort\, for making this event possible! #BusinessAfterHours #Networking #ChamberEvents&nbsp\;</p></body></html>
LOCATION:8500 Welcome Church Road Milton FL 32583
UID:e.3535.1445425
SEQUENCE:3
DTSTAMP:20260422T100119Z
URL:https://business.srcchamber.com/chamber-events/Details/business-after-hours-1712020?sourceTypeId=Hub
END:VEVENT
END:VCALENDAR
