BEGIN:VCALENDAR
VERSION:2.0
PRODID:-//ChamberMaster//Event Calendar 2.0//EN
METHOD:PUBLISH
X-PUBLISHED-TTL:P1H
REFRESH-INTERVAL:P1H
CALSCALE:GREGORIAN
BEGIN:VTIMEZONE
TZID:America/Chicago
BEGIN:DAYLIGHT
RRULE:FREQ=YEARLY;BYMONTH=3;BYDAY=2SU
DTSTART:20070101T000000
TZOFFSETFROM:-0600
TZOFFSETTO:-0500
TZNAME:Central Daylight Time
END:DAYLIGHT
BEGIN:STANDARD
RRULE:FREQ=YEARLY;BYMONTH=11;BYDAY=1SU
DTSTART:20070101T000000
TZOFFSETFROM:-0500
TZOFFSETTO:-0600
TZNAME:Central Standard Time
END:STANDARD
END:VTIMEZONE
BEGIN:VEVENT
DTSTART;TZID=America/Chicago:20260506T143000
DTEND;TZID=America/Chicago:20260506T160000
X-MICROSOFT-CDO-ALLDAYEVENT:FALSE
SUMMARY:(New) Member Orientation
DESCRIPTION:Discover membership benefits\, meet fellow (new) members\, and learn about our networking events\, business resources\, and advocacy efforts. This event is your first step to maximizing your involvement and building valuable connections in our business community. Join us and start your journey! ~ Refreshments sponsored Emerald Coast Hospice.
X-ALT-DESC;FMTTYPE=text/html:<!DOCTYPE html><html><head><title></title></head><body aria-disabled="false"><p>Discover membership benefits\, meet fellow (new) members\, and learn about our networking events\, business resources\, and advocacy efforts. This event is your first step to maximizing your involvement and building valuable connections in our business community. Join us and start your journey! ~ Refreshments sponsored Emerald Coast Hospice.</p></body></html>
LOCATION:4315 Avalon Boulevard Milton FL 32583
UID:e.3535.1445363
SEQUENCE:3
DTSTAMP:20260423T050335Z
URL:https://business.srcchamber.com/chamber-events/Details/new-member-orientation-1711859?sourceTypeId=Hub
END:VEVENT
END:VCALENDAR
