BEGIN:VCALENDAR
VERSION:2.0
PRODID:-//ChamberMaster//Event Calendar 2.0//EN
METHOD:PUBLISH
X-PUBLISHED-TTL:P1H
REFRESH-INTERVAL:P1H
CALSCALE:GREGORIAN
BEGIN:VTIMEZONE
TZID:America/Chicago
BEGIN:DAYLIGHT
RRULE:FREQ=YEARLY;BYMONTH=3;BYDAY=2SU
DTSTART:20070101T000000
TZOFFSETFROM:-0600
TZOFFSETTO:-0500
TZNAME:Central Daylight Time
END:DAYLIGHT
BEGIN:STANDARD
RRULE:FREQ=YEARLY;BYMONTH=11;BYDAY=1SU
DTSTART:20070101T000000
TZOFFSETFROM:-0500
TZOFFSETTO:-0600
TZNAME:Central Standard Time
END:STANDARD
END:VTIMEZONE
BEGIN:VEVENT
DTSTART;TZID=America/Chicago:20260513T130000
DTEND;TZID=America/Chicago:20260513T160000
X-MICROSOFT-CDO-ALLDAYEVENT:FALSE
SUMMARY:Starting a Business – Pensacola
DESCRIPTION:So you've got that business idea. You may not know the first steps\, or you may want some guidance on if you're taking the right steps. Let's work with the ideas that have been forming in your head and see if we can make them into a tangible\, feasible small business. In this three-hour workshop\, we'll take a deep dive into the following aspects of setting up a successful business:\n\n\n\nIs there a need for your product or service?\nCan you make money at it?\nAre you the right person to bring this to market?\nIs this business compatible with your personal goals?\nWhat rules\, laws\, and licensing apply to your business?\nWhat are funding options for your business?\nWhat about marketing strategies\, legal structures\, and taxation?\nWhat are your available resources?\nAlso\, after attending this workshop you'll have access to a Florida SBDC Business Consultant to assist you at no cost as you create your business plan and move toward your goals!\n\n\n\n*UWF students and employees may attend SBDC workshops at no cost. Contact us at 850-474-2528 to register with your Nautilus Card number.\n\n\n\nPlease note: No refund credit without 48-hour notice. Contact us at sbdc@uwf.edu or 850-474-2528 with questions.\n\n\n\n﻿Brought to you in part by Wells Fargo.
X-ALT-DESC;FMTTYPE=text/html:So you've got that business idea. You may not know the first steps\, or you may want some guidance on if you're taking the right steps. Let's work with the ideas that have been forming in your head and see if we can make them into a tangible\, feasible small business. In this three-hour workshop\, we'll take a deep dive into the following aspects of setting up a successful business:\n\n\n\nIs there a need for your product or service?\nCan you make money at it?\nAre you the right person to bring this to market?\nIs this business compatible with your personal goals?\nWhat rules\, laws\, and licensing apply to your business?\nWhat are funding options for your business?\nWhat about marketing strategies\, legal structures\, and taxation?\nWhat are your available resources?\nAlso\, after attending this workshop you'll have access to a Florida SBDC Business Consultant to assist you at no cost as you create your business plan and move toward your goals!\n\n\n\n*UWF students and employees may attend SBDC workshops at no cost. Contact us at 850-474-2528 to register with your Nautilus Card number.\n\n\n\nPlease note: No refund credit without 48-hour notice. Contact us at sbdc@uwf.edu or 850-474-2528 with questions.\n\n\n\n﻿Brought to you in part by Wells Fargo.
LOCATION:418 W. Garden St\, Pensacola FL 32501
UID:e.3535.1445585
SEQUENCE:3
DTSTAMP:20260423T050026Z
URL:https://business.srcchamber.com/chamber-events/Details/starting-a-business-pensacola-1712201?sourceTypeId=Hub
END:VEVENT
END:VCALENDAR
